BEGIN:VCALENDAR
VERSION:2.0
PRODID:-//Jahrgang 1965 - Spaichingen - ECPv6.15.18//NONSGML v1.0//EN
CALSCALE:GREGORIAN
METHOD:PUBLISH
X-WR-CALNAME:Jahrgang 1965 - Spaichingen
X-ORIGINAL-URL:https://www.jahrgang-1965.de
X-WR-CALDESC:Veranstaltungen für Jahrgang 1965 - Spaichingen
REFRESH-INTERVAL;VALUE=DURATION:PT1H
X-Robots-Tag:noindex
X-PUBLISHED-TTL:PT1H
BEGIN:VTIMEZONE
TZID:Europe/Berlin
BEGIN:DAYLIGHT
TZOFFSETFROM:+0100
TZOFFSETTO:+0200
TZNAME:CEST
DTSTART:20250330T010000
END:DAYLIGHT
BEGIN:STANDARD
TZOFFSETFROM:+0200
TZOFFSETTO:+0100
TZNAME:CET
DTSTART:20251026T010000
END:STANDARD
BEGIN:DAYLIGHT
TZOFFSETFROM:+0100
TZOFFSETTO:+0200
TZNAME:CEST
DTSTART:20260329T010000
END:DAYLIGHT
BEGIN:STANDARD
TZOFFSETFROM:+0200
TZOFFSETTO:+0100
TZNAME:CET
DTSTART:20261025T010000
END:STANDARD
BEGIN:DAYLIGHT
TZOFFSETFROM:+0100
TZOFFSETTO:+0200
TZNAME:CEST
DTSTART:20270328T010000
END:DAYLIGHT
BEGIN:STANDARD
TZOFFSETFROM:+0200
TZOFFSETTO:+0100
TZNAME:CET
DTSTART:20271031T010000
END:STANDARD
END:VTIMEZONE
BEGIN:VEVENT
DTSTART;TZID=Europe/Berlin:20260522T193000
DTEND;TZID=Europe/Berlin:20260522T230000
DTSTAMP:20260421T113226
CREATED:20260228T081129Z
LAST-MODIFIED:20260228T081129Z
UID:3878-1779478200-1779490800@www.jahrgang-1965.de
SUMMARY:Stammtisch im Schützenhaus Dürbheim
DESCRIPTION:Dieses Mal wollen wir zum Schützenhaus Dürbheim wandern. Wer mitwandern möchte kommt bereits um 18:00 zum Wanderparkplatz beim Trimm-Dich Pfad. Deine mögliche\nWanderroute findet ihr hier.\nWir werden voraussichtlich um 19:30 in Dürbheim ankommen. Wer nicht mitwandern kann\, kann natürlich auch direkt nach Dürbheim kommen.\nWir werden das eine oder andere Fahrzeug in Dürbheim abstellen sodass der Rückweg kein\nProblem sein sollte.. 😉
URL:https://www.jahrgang-1965.de/event/stammtisch-im-schuetzenhaus-duerbheim/
LOCATION:Schützenhaus Dürbheim\, Alte Heusteige 1\, Dürbheim\, 78589\, Deutschland
END:VEVENT
END:VCALENDAR