BEGIN:VCALENDAR
VERSION:2.0
PRODID:-//Jahrgang 1965 - Spaichingen - ECPv6.15.18//NONSGML v1.0//EN
CALSCALE:GREGORIAN
METHOD:PUBLISH
X-WR-CALNAME:Jahrgang 1965 - Spaichingen
X-ORIGINAL-URL:https://www.jahrgang-1965.de
X-WR-CALDESC:Veranstaltungen für Jahrgang 1965 - Spaichingen
REFRESH-INTERVAL;VALUE=DURATION:PT1H
X-Robots-Tag:noindex
X-PUBLISHED-TTL:PT1H
BEGIN:VTIMEZONE
TZID:Europe/Berlin
BEGIN:DAYLIGHT
TZOFFSETFROM:+0100
TZOFFSETTO:+0200
TZNAME:CEST
DTSTART:20240331T010000
END:DAYLIGHT
BEGIN:STANDARD
TZOFFSETFROM:+0200
TZOFFSETTO:+0100
TZNAME:CET
DTSTART:20241027T010000
END:STANDARD
BEGIN:DAYLIGHT
TZOFFSETFROM:+0100
TZOFFSETTO:+0200
TZNAME:CEST
DTSTART:20250330T010000
END:DAYLIGHT
BEGIN:STANDARD
TZOFFSETFROM:+0200
TZOFFSETTO:+0100
TZNAME:CET
DTSTART:20251026T010000
END:STANDARD
BEGIN:DAYLIGHT
TZOFFSETFROM:+0100
TZOFFSETTO:+0200
TZNAME:CEST
DTSTART:20260329T010000
END:DAYLIGHT
BEGIN:STANDARD
TZOFFSETFROM:+0200
TZOFFSETTO:+0100
TZNAME:CET
DTSTART:20261025T010000
END:STANDARD
END:VTIMEZONE
BEGIN:VEVENT
DTSTART;TZID=Europe/Berlin:20251121T194500
DTEND;TZID=Europe/Berlin:20251121T230000
DTSTAMP:20260424T144127
CREATED:20250803T064434Z
LAST-MODIFIED:20251117T204440Z
UID:3729-1763754300-1763766000@www.jahrgang-1965.de
SUMMARY:Stammtisch im Passe 2.0 - Besuch "Im Kinderzimmer wird's bunt"
DESCRIPTION:Zum Jahresabschluss findet der Stammtisch am 21.11.2025 nicht wie geplant bei der Ursel im Ochsen statt.\nUm 18:30 besteht die Gelegenheit die Ausstellung „Im Kinderzimmer wird’s bunt“ im Gewerbemuseum anzuschauen. Anschließend ist ab 19:45 im Passe 2.0 ein Tisch reserviert.
URL:https://www.jahrgang-1965.de/event/stammtisch-bei-der-ochsen-ursel/
LOCATION:Ochsen\, Hauptstraße 36\, Spaichingen\, 78549\, Deutschland
CATEGORIES:Stammtisch
END:VEVENT
END:VCALENDAR